Package: tigre Version: 1.58.0 Command: /Library/Frameworks/R.framework/Resources/bin/R CMD INSTALL tigre StartedAt: 2024-06-09 15:11:19 -0400 (Sun, 09 Jun 2024) EndedAt: 2024-06-09 15:11:47 -0400 (Sun, 09 Jun 2024) EllapsedTime: 28.1 seconds RetCode: 0 Status: OK