Package: tigre Version: 1.58.0 Command: rm -rf tigre.buildbin-libdir && mkdir tigre.buildbin-libdir && /Users/biocbuild/BBS/utils/build-universal.sh tigre_1.58.0.tar.gz /Library/Frameworks/R.framework/Resources/bin/R tigre.buildbin-libdir StartedAt: 2024-10-17 17:21:33 -0400 (Thu, 17 Oct 2024) EndedAt: 2024-10-17 17:22:30 -0400 (Thu, 17 Oct 2024) EllapsedTime: 56.7 seconds RetCode: 0 Status: OK PackageFile: tigre_1.58.0.tgz PackageFileSize: 975.9 KiB