Package: tigre Version: 1.58.0 Command: /home/biocbuild/bbs-3.19-bioc/R/bin/R CMD INSTALL tigre StartedAt: 2024-10-16 16:05:34 -0400 (Wed, 16 Oct 2024) EndedAt: 2024-10-16 16:05:53 -0400 (Wed, 16 Oct 2024) EllapsedTime: 19.0 seconds RetCode: 0 Status: OK