Package: tigre Version: 1.58.0 Command: rm -rf tigre.buildbin-libdir && mkdir tigre.buildbin-libdir && F:\biocbuild\bbs-3.19-bioc\R\bin\R.exe CMD INSTALL --build --library=tigre.buildbin-libdir tigre_1.58.0.tar.gz StartedAt: 2024-06-27 09:02:44 -0400 (Thu, 27 Jun 2024) EndedAt: 2024-06-27 09:03:24 -0400 (Thu, 27 Jun 2024) EllapsedTime: 40.3 seconds RetCode: 0 Status: OK PackageFile: tigre_1.58.0.zip PackageFileSize: 984.4 KiB