Package: tigre Version: 1.58.0 Command: chmod a+r tigre -R && E:\biocbuild\bbs-3.19-bioc\R\bin\R.exe CMD build --keep-empty-dirs --no-resave-data tigre StartedAt: 2024-10-16 22:21:03 -0400 (Wed, 16 Oct 2024) EndedAt: 2024-10-16 22:24:05 -0400 (Wed, 16 Oct 2024) EllapsedTime: 181.8 seconds RetCode: 0 Status: OK PackageFile: tigre_1.58.0.tar.gz PackageFileSize: 319.2 KiB