Package: timeOmics Version: 1.16.0 Command: /home/biocbuild/bbs-3.19-bioc/R/bin/R CMD build --keep-empty-dirs --no-resave-data timeOmics StartedAt: 2024-10-16 21:11:21 -0400 (Wed, 16 Oct 2024) EndedAt: 2024-10-16 21:11:53 -0400 (Wed, 16 Oct 2024) EllapsedTime: 32.1 seconds RetCode: 0 Status: OK PackageFile: timeOmics_1.16.0.tar.gz PackageFileSize: 3.794 MiB