Package: timecourse Version: 1.76.0 Command: /Library/Frameworks/R.framework/Resources/bin/R CMD build --keep-empty-dirs --no-resave-data timecourse StartedAt: 2024-06-10 05:59:11 -0400 (Mon, 10 Jun 2024) EndedAt: 2024-06-10 05:59:43 -0400 (Mon, 10 Jun 2024) EllapsedTime: 31.7 seconds RetCode: 0 Status: OK PackageFile: timecourse_1.76.0.tar.gz PackageFileSize: 840 KiB