Package: timecourse Version: 1.76.0 Command: rm -rf timecourse.buildbin-libdir && mkdir timecourse.buildbin-libdir && E:\biocbuild\bbs-3.19-bioc\R\bin\R.exe CMD INSTALL --build --library=timecourse.buildbin-libdir timecourse_1.76.0.tar.gz StartedAt: 2024-10-17 08:47:02 -0400 (Thu, 17 Oct 2024) EndedAt: 2024-10-17 08:47:15 -0400 (Thu, 17 Oct 2024) EllapsedTime: 12.7 seconds RetCode: 0 Status: OK PackageFile: timecourse_1.76.0.zip PackageFileSize: 820.4 KiB