Package: timecourse Version: 1.76.0 Command: chmod a+r timecourse -R && E:\biocbuild\bbs-3.19-bioc\R\bin\R.exe CMD build --keep-empty-dirs --no-resave-data timecourse StartedAt: 2024-10-16 22:21:29 -0400 (Wed, 16 Oct 2024) EndedAt: 2024-10-16 22:21:54 -0400 (Wed, 16 Oct 2024) EllapsedTime: 24.4 seconds RetCode: 0 Status: OK PackageFile: timecourse_1.76.0.tar.gz PackageFileSize: 713.9 KiB