Package: topconfects Version: 1.20.0 Command: /home/biocbuild/R/R-beta-2024-04-15_r86425/bin/R CMD build --keep-empty-dirs --no-resave-data topconfects StartedAt: 2024-05-09 04:09:10 -0000 (Thu, 09 May 2024) EndedAt: 2024-05-09 04:11:55 -0000 (Thu, 09 May 2024) EllapsedTime: 164.2 seconds RetCode: 0 Status: OK PackageFile: topconfects_1.20.0.tar.gz PackageFileSize: 1.446 MiB