Package: topconfects Version: 1.20.0 Command: /Library/Frameworks/R.framework/Resources/bin/R CMD build --keep-empty-dirs --no-resave-data topconfects StartedAt: 2024-06-09 18:26:56 -0400 (Sun, 09 Jun 2024) EndedAt: 2024-06-09 18:28:41 -0400 (Sun, 09 Jun 2024) EllapsedTime: 104.9 seconds RetCode: 0 Status: OK PackageFile: topconfects_1.20.0.tar.gz PackageFileSize: 2.408 MiB