Package: topconfects Version: 1.20.0 Command: /Library/Frameworks/R.framework/Resources/bin/R CMD check --install=check:topconfects.install-out.txt --library=/Library/Frameworks/R.framework/Resources/library --no-vignettes --timings topconfects_1.20.0.tar.gz StartedAt: 2024-06-09 23:35:42 -0400 (Sun, 09 Jun 2024) EndedAt: 2024-06-09 23:37:11 -0400 (Sun, 09 Jun 2024) EllapsedTime: 88.3 seconds RetCode: 0 Status: OK CheckDir: topconfects.Rcheck Warnings: 0