Package: topconfects Version: 1.20.0 Command: /home/biocbuild/bbs-3.19-bioc/R/bin/R CMD build --keep-empty-dirs --no-resave-data topconfects StartedAt: 2024-10-16 21:12:10 -0400 (Wed, 16 Oct 2024) EndedAt: 2024-10-16 21:13:58 -0400 (Wed, 16 Oct 2024) EllapsedTime: 107.2 seconds RetCode: 0 Status: OK PackageFile: topconfects_1.20.0.tar.gz PackageFileSize: 1.834 MiB