Package: topconfects Version: 1.20.0 Command: rm -rf topconfects.buildbin-libdir && mkdir topconfects.buildbin-libdir && F:\biocbuild\bbs-3.19-bioc\R\bin\R.exe CMD INSTALL --build --library=topconfects.buildbin-libdir topconfects_1.20.0.tar.gz StartedAt: 2024-06-27 09:03:22 -0400 (Thu, 27 Jun 2024) EndedAt: 2024-06-27 09:03:46 -0400 (Thu, 27 Jun 2024) EllapsedTime: 24.1 seconds RetCode: 0 Status: OK PackageFile: topconfects_1.20.0.zip PackageFileSize: 999.7 KiB