Package: topconfects Version: 1.20.0 Command: chmod a+r topconfects -R && F:\biocbuild\bbs-3.19-bioc\R\bin\R.exe CMD build --keep-empty-dirs --no-resave-data topconfects StartedAt: 2024-06-26 22:24:34 -0400 (Wed, 26 Jun 2024) EndedAt: 2024-06-26 22:27:04 -0400 (Wed, 26 Jun 2024) EllapsedTime: 149.8 seconds RetCode: 0 Status: OK PackageFile: topconfects_1.20.0.tar.gz PackageFileSize: 847.1 KiB