Package: topconfects Version: 1.20.0 Command: rm -rf topconfects.buildbin-libdir && mkdir topconfects.buildbin-libdir && E:\biocbuild\bbs-3.19-bioc\R\bin\R.exe CMD INSTALL --build --library=topconfects.buildbin-libdir topconfects_1.20.0.tar.gz StartedAt: 2024-10-17 08:47:42 -0400 (Thu, 17 Oct 2024) EndedAt: 2024-10-17 08:48:03 -0400 (Thu, 17 Oct 2024) EllapsedTime: 20.5 seconds RetCode: 0 Status: OK PackageFile: topconfects_1.20.0.zip PackageFileSize: 999.6 KiB