Package: topconfects Version: 1.20.0 Command: E:\biocbuild\bbs-3.19-bioc\R\bin\R.exe CMD INSTALL topconfects StartedAt: 2024-10-16 16:08:36 -0400 (Wed, 16 Oct 2024) EndedAt: 2024-10-16 16:08:48 -0400 (Wed, 16 Oct 2024) EllapsedTime: 12.0 seconds RetCode: 0 Status: OK