Package: tpSVG Version: 0.99.7 Command: /home/biocbuild/R/R-beta-2024-04-15_r86425/bin/R CMD check --install=check:tpSVG.install-out.txt --library=/home/biocbuild/R/R-beta-2024-04-15_r86425/site-library --no-vignettes --timings tpSVG_0.99.7.tar.gz StartedAt: 2024-04-27 11:07:40 -0000 (Sat, 27 Apr 2024) EndedAt: 2024-04-27 11:12:27 -0000 (Sat, 27 Apr 2024) EllapsedTime: 286.5 seconds RetCode: 0 Status: OK CheckDir: tpSVG.Rcheck Warnings: 0