Package: tpSVG Version: 1.0.0 Command: rm -rf tpSVG.buildbin-libdir && mkdir tpSVG.buildbin-libdir && E:\biocbuild\bbs-3.19-bioc\R\bin\R.exe CMD INSTALL --build --library=tpSVG.buildbin-libdir tpSVG_1.0.0.tar.gz StartedAt: 2024-10-17 08:47:54 -0400 (Thu, 17 Oct 2024) EndedAt: 2024-10-17 08:48:26 -0400 (Thu, 17 Oct 2024) EllapsedTime: 32.4 seconds RetCode: 0 Status: OK PackageFile: tpSVG_1.0.0.zip PackageFileSize: 1.245 MiB