Package: tradeSeq Version: 1.18.0 Command: /home/biocbuild/bbs-3.19-bioc/R/bin/R CMD build --keep-empty-dirs --no-resave-data tradeSeq StartedAt: 2024-10-16 21:13:00 -0400 (Wed, 16 Oct 2024) EndedAt: 2024-10-16 21:19:48 -0400 (Wed, 16 Oct 2024) EllapsedTime: 408.9 seconds RetCode: 0 Status: OK PackageFile: tradeSeq_1.18.0.tar.gz PackageFileSize: 5.089 MiB