Package: tradeSeq Version: 1.18.0 Command: rm -rf tradeSeq.buildbin-libdir && mkdir tradeSeq.buildbin-libdir && E:\biocbuild\bbs-3.19-bioc\R\bin\R.exe CMD INSTALL --build --library=tradeSeq.buildbin-libdir tradeSeq_1.18.0.tar.gz StartedAt: 2024-10-17 08:48:03 -0400 (Thu, 17 Oct 2024) EndedAt: 2024-10-17 08:48:49 -0400 (Thu, 17 Oct 2024) EllapsedTime: 46.4 seconds RetCode: 0 Status: OK PackageFile: tradeSeq_1.18.0.zip PackageFileSize: 2.462 MiB