Package: transcriptR Version: 1.32.0 Command: /Library/Frameworks/R.framework/Resources/bin/R CMD build --keep-empty-dirs --no-resave-data transcriptR StartedAt: 2024-10-17 10:51:44 -0400 (Thu, 17 Oct 2024) EndedAt: 2024-10-17 10:53:28 -0400 (Thu, 17 Oct 2024) EllapsedTime: 104.2 seconds RetCode: 0 Status: OK PackageFile: transcriptR_1.32.0.tar.gz PackageFileSize: 3.787 MiB