Package: transcriptR Version: 1.32.0 Command: /Library/Frameworks/R.framework/Resources/bin/R CMD INSTALL transcriptR StartedAt: 2024-10-16 16:30:07 -0400 (Wed, 16 Oct 2024) EndedAt: 2024-10-16 16:31:59 -0400 (Wed, 16 Oct 2024) EllapsedTime: 111.5 seconds RetCode: 0 Status: OK