Package: transite Version: 1.22.0 Maintainer: Konstantin Krismer MaintainerEmail: krismer at mit.edu git_url: https://git.bioconductor.org/packages/transite git_branch: RELEASE_3_19 git_last_commit: a7e5941 git_last_commit_date: 2024-04-30 11:10:13 -0400 (Tue, 30 Apr 2024)