Package: transite Version: 1.22.0 Command: /home/biocbuild/R/R-beta-2024-04-15_r86425/bin/R CMD build --keep-empty-dirs --no-resave-data transite StartedAt: 2024-05-09 04:11:00 -0000 (Thu, 09 May 2024) EndedAt: 2024-05-09 04:11:52 -0000 (Thu, 09 May 2024) EllapsedTime: 52.1 seconds RetCode: 0 Status: OK PackageFile: transite_1.22.0.tar.gz PackageFileSize: 617.5 KiB