Package: transite Version: 1.22.0 Command: /home/biocbuild/bbs-3.19-bioc/R/bin/R CMD check --install=check:transite.install-out.txt --library=/home/biocbuild/bbs-3.19-bioc/R/site-library --timings transite_1.22.0.tar.gz StartedAt: 2024-10-17 06:01:18 -0400 (Thu, 17 Oct 2024) EndedAt: 2024-10-17 06:07:43 -0400 (Thu, 17 Oct 2024) EllapsedTime: 384.8 seconds RetCode: 0 Status: OK CheckDir: transite.Rcheck Warnings: 0