Package: transite Version: 1.22.0 Command: chmod a+r transite -R && F:\biocbuild\bbs-3.19-bioc\R\bin\R.exe CMD build --keep-empty-dirs --no-resave-data transite StartedAt: 2024-06-26 22:25:57 -0400 (Wed, 26 Jun 2024) EndedAt: 2024-06-26 22:26:54 -0400 (Wed, 26 Jun 2024) EllapsedTime: 56.5 seconds RetCode: 0 Status: OK PackageFile: transite_1.22.0.tar.gz PackageFileSize: 610.8 KiB