Package: transmogR Version: 1.0.0 Command: /Library/Frameworks/R.framework/Resources/bin/R CMD build --keep-empty-dirs --no-resave-data transmogR StartedAt: 2024-06-10 06:07:27 -0400 (Mon, 10 Jun 2024) EndedAt: 2024-06-10 06:09:20 -0400 (Mon, 10 Jun 2024) EllapsedTime: 112.7 seconds RetCode: 0 Status: OK PackageFile: transmogR_1.0.0.tar.gz PackageFileSize: 572.4 KiB