Package: transmogR Version: 1.0.0 Command: /home/biocbuild/R/R-beta-2024-04-15_r86425/bin/R CMD build --keep-empty-dirs --no-resave-data transmogR StartedAt: 2024-05-09 04:11:19 -0000 (Thu, 09 May 2024) EndedAt: 2024-05-09 04:12:57 -0000 (Thu, 09 May 2024) EllapsedTime: 98.1 seconds RetCode: 0 Status: OK PackageFile: transmogR_1.0.0.tar.gz PackageFileSize: 564.5 KiB