Package: transmogR Version: 1.0.0 Command: rm -rf transmogR.buildbin-libdir && mkdir transmogR.buildbin-libdir && F:\biocbuild\bbs-3.19-bioc\R\bin\R.exe CMD INSTALL --build --library=transmogR.buildbin-libdir transmogR_1.0.0.tar.gz StartedAt: 2024-06-27 09:03:53 -0400 (Thu, 27 Jun 2024) EndedAt: 2024-06-27 09:04:43 -0400 (Thu, 27 Jun 2024) EllapsedTime: 49.7 seconds RetCode: 0 Status: OK PackageFile: transmogR_1.0.0.zip PackageFileSize: 587.6 KiB