Package: transmogR Version: 1.0.0 Command: E:\biocbuild\bbs-3.19-bioc\R\bin\R.exe CMD check --no-multiarch --install=check:transmogR.install-out.txt --library=E:\biocbuild\bbs-3.19-bioc\R\library --no-vignettes --timings transmogR_1.0.0.tar.gz StartedAt: 2024-10-17 06:38:14 -0400 (Thu, 17 Oct 2024) EndedAt: 2024-10-17 06:45:21 -0400 (Thu, 17 Oct 2024) EllapsedTime: 427.1 seconds RetCode: 0 Status: OK CheckDir: transmogR.Rcheck Warnings: 0