Package: transmogR Version: 1.0.0 Command: E:\biocbuild\bbs-3.19-bioc\R\bin\R.exe CMD INSTALL transmogR StartedAt: 2024-10-16 16:32:56 -0400 (Wed, 16 Oct 2024) EndedAt: 2024-10-16 16:33:47 -0400 (Wed, 16 Oct 2024) EllapsedTime: 50.8 seconds RetCode: 0 Status: OK