Package: treeclimbR Version: 1.0.0 Command: /home/biocbuild/R/R-beta-2024-04-15_r86425/bin/R CMD build --keep-empty-dirs --no-resave-data treeclimbR StartedAt: 2024-05-09 04:12:05 -0000 (Thu, 09 May 2024) EndedAt: 2024-05-09 04:13:38 -0000 (Thu, 09 May 2024) EllapsedTime: 93.1 seconds RetCode: 0 Status: OK PackageFile: treeclimbR_1.0.0.tar.gz PackageFileSize: 608.1 KiB