Package: treeclimbR Version: 1.0.0 Command: /home/biocbuild/bbs-3.19-bioc/R/bin/R CMD check --install=check:treeclimbR.install-out.txt --library=/home/biocbuild/bbs-3.19-bioc/R/site-library --timings treeclimbR_1.0.0.tar.gz StartedAt: 2024-10-17 06:03:11 -0400 (Thu, 17 Oct 2024) EndedAt: 2024-10-17 06:09:32 -0400 (Thu, 17 Oct 2024) EllapsedTime: 380.8 seconds RetCode: 1 Status: ERROR CheckDir: treeclimbR.Rcheck Warnings: NA