Package: treeclimbR Version: 1.0.0 Command: /home/biocbuild/bbs-3.19-bioc/R/bin/R CMD INSTALL treeclimbR StartedAt: 2024-10-16 16:45:24 -0400 (Wed, 16 Oct 2024) EndedAt: 2024-10-16 16:45:59 -0400 (Wed, 16 Oct 2024) EllapsedTime: 35.5 seconds RetCode: 0 Status: OK