Package: treekoR Version: 1.12.0 Command: /home/biocbuild/R/R-beta-2024-04-15_r86425/bin/R CMD build --keep-empty-dirs --no-resave-data treekoR StartedAt: 2024-05-09 04:12:11 -0000 (Thu, 09 May 2024) EndedAt: 2024-05-09 04:14:03 -0000 (Thu, 09 May 2024) EllapsedTime: 112.2 seconds RetCode: 0 Status: OK PackageFile: treekoR_1.12.0.tar.gz PackageFileSize: 1.634 MiB