Package: treekoR Version: 1.12.0 Command: /home/biocbuild/R/R-beta-2024-04-15_r86425/bin/R CMD check --install=check:treekoR.install-out.txt --library=/home/biocbuild/R/R-beta-2024-04-15_r86425/site-library --no-vignettes --timings treekoR_1.12.0.tar.gz StartedAt: 2024-05-08 12:52:28 -0000 (Wed, 08 May 2024) EndedAt: 2024-05-08 12:58:33 -0000 (Wed, 08 May 2024) EllapsedTime: 364.7 seconds RetCode: 0 Status: OK CheckDir: treekoR.Rcheck Warnings: 0