Package: treekoR Version: 1.12.0 Command: rm -rf treekoR.buildbin-libdir && mkdir treekoR.buildbin-libdir && /Users/biocbuild/BBS/utils/build-universal.sh treekoR_1.12.0.tar.gz /Library/Frameworks/R.framework/Resources/bin/R treekoR.buildbin-libdir StartedAt: 2024-10-17 17:23:17 -0400 (Thu, 17 Oct 2024) EndedAt: 2024-10-17 17:24:35 -0400 (Thu, 17 Oct 2024) EllapsedTime: 77.8 seconds RetCode: 0 Status: OK PackageFile: treekoR_1.12.0.tgz PackageFileSize: 1.651 MiB