Package: treekoR Version: 1.12.0 Command: /home/biocbuild/bbs-3.19-bioc/R/bin/R CMD INSTALL treekoR StartedAt: 2024-10-16 16:46:03 -0400 (Wed, 16 Oct 2024) EndedAt: 2024-10-16 16:46:44 -0400 (Wed, 16 Oct 2024) EllapsedTime: 40.8 seconds RetCode: 0 Status: OK