Package: treekoR Version: 1.12.0 Command: E:\biocbuild\bbs-3.19-bioc\R\bin\R.exe CMD INSTALL treekoR StartedAt: 2024-10-16 17:21:38 -0400 (Wed, 16 Oct 2024) EndedAt: 2024-10-16 17:22:29 -0400 (Wed, 16 Oct 2024) EllapsedTime: 51.3 seconds RetCode: 0 Status: OK