Package: tricycle Version: 1.12.0 Command: rm -rf tricycle.buildbin-libdir && mkdir tricycle.buildbin-libdir && /Users/biocbuild/BBS/utils/build-universal.sh tricycle_1.12.0.tar.gz /Library/Frameworks/R.framework/Resources/bin/R tricycle.buildbin-libdir StartedAt: 2024-10-15 20:42:49 -0400 (Tue, 15 Oct 2024) EndedAt: 2024-10-15 20:43:38 -0400 (Tue, 15 Oct 2024) EllapsedTime: 48.5 seconds RetCode: 0 Status: OK PackageFile: tricycle_1.12.0.tgz PackageFileSize: 4.159 MiB