Package: tricycle Version: 1.12.0 Command: /Library/Frameworks/R.framework/Resources/bin/R CMD build --keep-empty-dirs --no-resave-data tricycle StartedAt: 2024-10-17 11:01:16 -0400 (Thu, 17 Oct 2024) EndedAt: 2024-10-17 11:02:38 -0400 (Thu, 17 Oct 2024) EllapsedTime: 82.2 seconds RetCode: 0 Status: OK PackageFile: tricycle_1.12.0.tar.gz PackageFileSize: 4.1 MiB