Package: tricycle Version: 1.12.0 Command: /Library/Frameworks/R.framework/Resources/bin/R CMD INSTALL tricycle StartedAt: 2024-10-16 18:33:26 -0400 (Wed, 16 Oct 2024) EndedAt: 2024-10-16 18:34:06 -0400 (Wed, 16 Oct 2024) EllapsedTime: 39.7 seconds RetCode: 0 Status: OK