Package: tricycle Version: 1.12.0 Command: /home/biocbuild/bbs-3.19-bioc/R/bin/R CMD build --keep-empty-dirs --no-resave-data tricycle StartedAt: 2024-10-16 21:14:24 -0400 (Wed, 16 Oct 2024) EndedAt: 2024-10-16 21:15:25 -0400 (Wed, 16 Oct 2024) EllapsedTime: 61.1 seconds RetCode: 0 Status: OK PackageFile: tricycle_1.12.0.tar.gz PackageFileSize: 4.024 MiB