Package: trigger Version: 1.50.0 Command: /Library/Frameworks/R.framework/Resources/bin/R CMD check --install=check:trigger.install-out.txt --library=/Library/Frameworks/R.framework/Resources/library --no-vignettes --timings trigger_1.50.0.tar.gz StartedAt: 2024-06-09 23:39:24 -0400 (Sun, 09 Jun 2024) EndedAt: 2024-06-09 23:42:59 -0400 (Sun, 09 Jun 2024) EllapsedTime: 214.9 seconds RetCode: 0 Status: OK CheckDir: trigger.Rcheck Warnings: 0