Package: triplex Version: 1.44.0 Command: /Library/Frameworks/R.framework/Resources/bin/R CMD check --install=check:triplex.install-out.txt --library=/Library/Frameworks/R.framework/Resources/library --no-vignettes --timings triplex_1.44.0.tar.gz StartedAt: 2024-10-17 14:41:58 -0400 (Thu, 17 Oct 2024) EndedAt: 2024-10-17 14:45:22 -0400 (Thu, 17 Oct 2024) EllapsedTime: 203.1 seconds RetCode: 0 Status: WARNINGS CheckDir: triplex.Rcheck Warnings: 2