Package: triplex Version: 1.44.0 Command: chmod a+r triplex -R && F:\biocbuild\bbs-3.19-bioc\R\bin\R.exe CMD build --keep-empty-dirs --no-resave-data triplex StartedAt: 2024-06-26 22:27:52 -0400 (Wed, 26 Jun 2024) EndedAt: 2024-06-26 22:28:43 -0400 (Wed, 26 Jun 2024) EllapsedTime: 51.8 seconds RetCode: 0 Status: OK PackageFile: triplex_1.44.0.tar.gz PackageFileSize: 481.1 KiB