Package: triplex Version: 1.44.0 Command: F:\biocbuild\bbs-3.19-bioc\R\bin\R.exe CMD check --no-multiarch --install=check:triplex.install-out.txt --library=F:\biocbuild\bbs-3.19-bioc\R\library --no-vignettes --timings triplex_1.44.0.tar.gz StartedAt: 2024-06-27 07:09:36 -0400 (Thu, 27 Jun 2024) EndedAt: 2024-06-27 07:11:20 -0400 (Thu, 27 Jun 2024) EllapsedTime: 104.6 seconds RetCode: 0 Status: WARNINGS CheckDir: triplex.Rcheck Warnings: 2