Package: triplex Version: 1.44.0 Command: rm -rf triplex.buildbin-libdir && mkdir triplex.buildbin-libdir && E:\biocbuild\bbs-3.19-bioc\R\bin\R.exe CMD INSTALL --build --library=triplex.buildbin-libdir triplex_1.44.0.tar.gz StartedAt: 2024-10-17 08:49:02 -0400 (Thu, 17 Oct 2024) EndedAt: 2024-10-17 08:49:45 -0400 (Thu, 17 Oct 2024) EllapsedTime: 43.1 seconds RetCode: 0 Status: OK PackageFile: triplex_1.44.0.zip PackageFileSize: 811.8 KiB