Package: tripr Version: 1.10.0 Command: /Library/Frameworks/R.framework/Resources/bin/R CMD build --keep-empty-dirs --no-resave-data tripr StartedAt: 2024-10-17 11:02:38 -0400 (Thu, 17 Oct 2024) EndedAt: 2024-10-17 11:03:28 -0400 (Thu, 17 Oct 2024) EllapsedTime: 50.0 seconds RetCode: 0 Status: OK PackageFile: tripr_1.10.0.tar.gz PackageFileSize: 2.933 MiB